BEGIN:VCALENDAR
VERSION:2.0
PRODID:-//ChamberMaster//Event Calendar 2.0//EN
METHOD:PUBLISH
X-PUBLISHED-TTL:P3D
REFRESH-INTERVAL:P3D
CALSCALE:GREGORIAN
BEGIN:VEVENT
DTSTART:20230111T140000Z
DTEND:20230111T160000Z
X-MICROSOFT-CDO-ALLDAYEVENT:FALSE
SUMMARY:Wednesday Workshop - Professional Development
DESCRIPTION:Join us for Wednesday Workshop\, a professional development opportunity with Jordan Clemons from Greater Louisville Inc. Jordan will be teaching us ALL about LinkedIn! \n\n\n\nWe'll learn the following: \n\n	 How to setup and mange profile on LinkedIn\, personal & business\n	Settings of the application\n	Improve your visibility on platform\n	How to engage/find potential employees \n	Attracting business prospects
X-ALT-DESC;FMTTYPE=text/html:<span style="font-family:arial\;">Join us for Wednesday Workshop\, a professional development opportunity with Jordan Clemons from Greater Louisville Inc. Jordan will be teaching us ALL about LinkedIn!&nbsp\;</span><br />\n<br />\nWe&#39\;ll learn the following:&nbsp\;\n<ul>\n	<li>&#8203\;<span style="font-size:12.0pt\;">How to setup and mange profile on LinkedIn\, personal &amp\; business</span></li>\n	<li style="margin-left:0in\;"><span style="font-size:12.0pt\;">Settings of the application</span></li>\n	<li style="margin-left:0in\;"><span style="font-size:12.0pt\;">Improve your visibility on platform</span></li>\n	<li style="margin-left:0in\;"><span style="font-size:12.0pt\;">How to engage/find potential employees </span></li>\n	<li style="margin-left:0in\;"><span style="font-size:12.0pt\;">Attracting business prospects </span></li>\n</ul>\n<br />\n<br />\n<br />\n<br />\n<br />\n&nbsp\;
LOCATION:Oldham Chamber & Economic Development Office 204 South 1st Ave. La Grange\, KY 40031
UID:e.1944.3139
SEQUENCE:3
DTSTAMP:20260423T082330Z
URL:https://members.oldhamcountychamber.com/events/details/wednesday-workshop-professional-development-3139
END:VEVENT

END:VCALENDAR
