BEGIN:VCALENDAR
VERSION:2.0
PRODID:-//ChamberMaster//Event Calendar 2.0//EN
METHOD:PUBLISH
X-PUBLISHED-TTL:P3D
REFRESH-INTERVAL:P3D
CALSCALE:GREGORIAN
BEGIN:VEVENT
DTSTART:20230223T140000Z
DTEND:20230223T150000Z
X-MICROSOFT-CDO-ALLDAYEVENT:FALSE
SUMMARY:Wednesday Workshop on a THURSDAY! CPR & First Aid Class
DESCRIPTION:Join us for Wednesday Workshop only this time it's on a THURSDAY!\n\n\n\nArm your workforce with lifesaving skills and learn Hands-Only CPR from an expert with the American Heart Association. Learn essential workplace first aid tips from EMA Director\, Col. Deborah Berry with Baptist Health La Grange\, including vital supplies for your first aid kit and steps to control bleeding. Register now for this life-saving training session!\n\n\n\nNote: CPR certification is not included in this program
X-ALT-DESC;FMTTYPE=text/html:<span style="font-size:14px\;"><span style="font-family:arial\;">Join us for Wednesday Workshop only this time it&#39\;s on a THURSDAY!</span><br />\n<br />\n<span style="font-family:arial\;">Arm your workforce with lifesaving skills and learn Hands-Only CPR from an expert with the American Heart Association. Learn essential workplace first aid tips from&nbsp\;EMA Director\, Col. Deborah Berry with Baptist Health La Grange\, including vital supplies for your first aid kit and steps to control bleeding. Register now for this life-saving training session!</span></span><br />\n<br />\n<span style="color: rgb(28\, 43\, 51)\; font-family: -apple-system\, BlinkMacSystemFont\, &quot\;Segoe UI&quot\;\, Roboto\, Helvetica\, Arial\, sans-serif\, &quot\;Apple Color Emoji&quot\;\, &quot\;Segoe UI Emoji&quot\;\, &quot\;Segoe UI Symbol&quot\;\; font-size: 14px\; white-space: pre-wrap\; background-color: rgb(255\, 255\, 255)\;">Note: CPR certification is not included in this program</span>
LOCATION:Oldham County Health Department 1786 Commerce Parkway La Grange\, KY 40031
UID:e.1944.3164
SEQUENCE:3
DTSTAMP:20260421T102820Z
URL:https://members.oldhamcountychamber.com/events/details/wednesday-workshop-on-a-thursday-cpr-first-aid-class-3164
END:VEVENT

END:VCALENDAR
