BEGIN:VCALENDAR
VERSION:2.0
PRODID:-//ChamberMaster//Event Calendar 2.0//EN
METHOD:PUBLISH
X-PUBLISHED-TTL:P3D
REFRESH-INTERVAL:P3D
CALSCALE:GREGORIAN
BEGIN:VEVENT
DTSTART:20260613T140000Z
DTEND:20260613T180000Z
X-MICROSOFT-CDO-ALLDAYEVENT:FALSE
SUMMARY:Summer Family Fun Fest and Kid-Owned Business Expo 2026
DESCRIPTION:Join us for our 8th annual Summer Family Fun Fest! This will be a free event for the community with face painting\, a duck derby\, carnival games and so much more! This is also our 4th year doing the Kid-Owned Business Expo\, giving young entrepreneurs a chance to showcase their business ideas to a panel of judges. 1st and 2nd place winners will receive cash prizes. Our non-profit partner this year is the Jake Luxemburger Foundation\, honoring Jake's legacy by supporting youth sports. All sponsor/vendor fees and donations made during the event will benefit them directly.\n\n\n\nScan the QR codes at the bottom of the flyer if you're interested in being a sponsor\, vendor or a kid-owned business. Contact Cheryl Gurr with any questions. We hope to see you there!
X-ALT-DESC;FMTTYPE=text/html:<span style="color:rgb(102\, 102\, 102)\; font-family:open sans\,sans-serif\; font-size:14px">Join us for our 8th annual Summer Family Fun Fest! This will be a free event for the community with face painting\, a duck derby\, carnival games and so much more! This is also our 4th year doing the Kid-Owned Business Expo\, giving young entrepreneurs a chance to showcase their business ideas to a panel of judges. 1st and 2nd place winners will receive cash prizes. Our non-profit partner this year is the Jake Luxemburger Foundation\, honoring Jake&#39\;s legacy by supporting youth sports. All sponsor/vendor fees and donations made during the event will benefit them directly.<br />\n<br />\nScan the QR codes at the bottom of the flyer if you&#39\;re interested in being a sponsor\, vendor or a kid-owned business. Contact Cheryl Gurr with any questions. We hope to see you there!</span>
LOCATION:CityPlace Expo Center | Pavillion 1 and the Plaza 112 South 1st Avenue La Grange\, KY 40031
UID:e.1944.6354
SEQUENCE:3
DTSTAMP:20260423T122504Z
URL:https://members.oldhamcountychamber.com/events/details/summer-family-fun-fest-and-kid-owned-business-expo-2026-6354
END:VEVENT

END:VCALENDAR
