BEGIN:VCALENDAR
VERSION:2.0
PRODID:-//ChamberMaster//Event Calendar 2.0//EN
METHOD:PUBLISH
X-PUBLISHED-TTL:P3D
REFRESH-INTERVAL:P3D
CALSCALE:GREGORIAN
BEGIN:VEVENT
DTSTART:20260429T150000Z
DTEND:20260429T160000Z
X-MICROSOFT-CDO-ALLDAYEVENT:FALSE
SUMMARY:Ribbon Cutting POSTPONED - Cardwell & Waits Auto Sales
DESCRIPTION:This Ribbon Cutting has been postponed. Please stay tuned for the rescheduled date.\n\n\n\nPlease\, join us for a Ribbon Cutting to celebrate Cardwell & Waits Auto Sales!\n\n\n\n"AC Cardwell has been in the auto sales profession going on 34 yrs and Todd Waits has been serving the automotive needs for Oldham County for over 42 years having been born and raised here and growing up in the business."
X-ALT-DESC;FMTTYPE=text/html:<span style="font-family:arial\;"><span style="font-size:14px\;"><span style="color:#FF0000\;">This Ribbon Cutting has been postponed. Please stay tuned for the rescheduled date.</span><br />\n<br />\nPlease\, join us for a Ribbon Cutting to celebrate Cardwell &amp\; Waits Auto Sales!<br />\n<br />\n<em>&quot\;AC Cardwell has been in the auto sales profession going on 34 yrs and Todd Waits has been serving the automotive needs for Oldham County for over 42 years having been born and raised here and growing up in the business.&quot\;</em></span></span>
LOCATION:Cardwell & Waits Auto Sales 1024 New Moody Ln. La Grange\, KY 40031
UID:e.1944.6359
SEQUENCE:3
DTSTAMP:20260424T215857Z
URL:https://members.oldhamcountychamber.com/events/details/ribbon-cutting-postponed-cardwell-waits-auto-sales-6359
END:VEVENT

END:VCALENDAR
