BEGIN:VCALENDAR
VERSION:2.0
PRODID:-//ChamberMaster//Event Calendar 2.0//EN
METHOD:PUBLISH
X-PUBLISHED-TTL:P3D
REFRESH-INTERVAL:P3D
CALSCALE:GREGORIAN
BEGIN:VEVENT
DTSTART:20260515T193000Z
DTEND:20260515T203000Z
X-MICROSOFT-CDO-ALLDAYEVENT:FALSE
SUMMARY:Ribbon Cutting - Lucid Golf Club
DESCRIPTION:Please\, join us for a Ribbon Cutting to celebrate the opening of Bluegrass Spring Falling Rock Park!\n\n\n\n"Bluegrass Spring is a haven crafted for adults aged 18 and above seeking a blissful escape.\n\nThe Park is available for swimming\, paddle boarding\, kayaking along with sand volleyball\, water basketball\, and corn hole\, or one can simply wander the sandy shores and nearby island while enjoying the cool\, rejuvenating waters."
X-ALT-DESC;FMTTYPE=text/html:<span style="font-family:arial\;"><span style="font-size:14px\;">Please\, join us for a Ribbon Cutting to celebrate the opening of Bluegrass Spring Falling Rock Park!<br />\n<br />\n<em><span style="color:black\;">&quot\;Bluegrass Spring is a haven crafted for adults aged 18 and above seeking a blissful escape.</span></em><br />\n<em><span style="color:black\;">The Park is available for swimming\, paddle boarding\, kayaking along with sand volleyball\, water basketball\, and corn hole\, or one can simply wander the sandy shores and nearby island while enjoying the cool\, rejuvenating waters.&quot\;</span></em></span></span>
LOCATION:Bluegrass Spring Falling Rock Park 2101 Fendley Mill Rd. La Grange\, KY 40031
UID:e.1944.6364
SEQUENCE:3
DTSTAMP:20260424T153341Z
URL:https://members.oldhamcountychamber.com/events/details/ribbon-cutting-lucid-golf-club-6364
END:VEVENT

END:VCALENDAR
