BEGIN:VCALENDAR
VERSION:2.0
PRODID:-//ChamberMaster//Event Calendar 2.0//EN
METHOD:PUBLISH
X-PUBLISHED-TTL:P3D
REFRESH-INTERVAL:P3D
CALSCALE:GREGORIAN
BEGIN:VEVENT
DTSTART:20260505T150000Z
DTEND:20260505T160000Z
X-MICROSOFT-CDO-ALLDAYEVENT:FALSE
SUMMARY:Ribbon Cutting - Lucid Golf Club
DESCRIPTION:Please\, join us for a Ribbon Cutting to celebrate the opening of Lucid Golf Club in Crestwood!\n\n\n\n"Lucid Golf Club is a 24/7 indoor golf facility offering premium simulator bays for practice\, play\, and entertainment. Members get on-demand access to cutting-edge technology in a private\, self-service environment designed to improve their game year-round."
X-ALT-DESC;FMTTYPE=text/html:<span style="font-family:arial\;"><span style="font-size:14px\;">Please\, join us for a Ribbon Cutting to celebrate the opening of Lucid Golf Club in Crestwood!<br />\n<br />\n<em><span style="color:black\;">&quot\;Lucid Golf Club is a 24/7 indoor golf facility offering premium simulator bays for practice\, play\, and entertainment. Members get on-demand access to cutting-edge technology in a private\, self-service environment designed to improve their game year-round.&quot\;</span></em></span></span>
LOCATION:Lucid Golf Club 6102 Crestwood Station Crestwood\, KY 40014
UID:e.1944.6360
SEQUENCE:3
DTSTAMP:20260420T185522Z
URL:https://members.oldhamcountychamber.com/events/details/ribbon-cutting-lucid-golf-club-6360
END:VEVENT

END:VCALENDAR
