BEGIN:VCALENDAR
VERSION:2.0
PRODID:-//ChamberMaster//Event Calendar 2.0//EN
METHOD:PUBLISH
X-PUBLISHED-TTL:P3D
REFRESH-INTERVAL:P3D
CALSCALE:GREGORIAN
BEGIN:VEVENT
DTSTART:20260512T163000Z
DTEND:20260512T173000Z
X-MICROSOFT-CDO-ALLDAYEVENT:FALSE
SUMMARY:Ribbon Cutting - Ideal Dentistry
DESCRIPTION:Please\, join us for a Ribbon Cutting to celebrate Ideal Dentistry!\n\n\n\n"Ideal Dentistry is proud to celebrate its relocation to Crestwood with a Red Ribbon Cutting. Dr. Richard Neal\, a longtime Oldham County resident of over 40 years\, is excited to bring his practice closer to the community he calls home. Ideal Dentistry is committed to delivering advanced implant and cosmetic dentistry to the heart of Crestwood."
X-ALT-DESC;FMTTYPE=text/html:<span style="font-family:arial\;"><span style="font-size:14px\;">Please\, join us for a Ribbon Cutting to celebrate Ideal Dentistry!<br />\n<br />\n<em>&quot\;Ideal Dentistry is proud to celebrate its relocation to Crestwood with a Red Ribbon Cutting. Dr. Richard Neal\, a longtime Oldham County resident of over 40 years\, is excited to bring his practice closer to the community he calls home. Ideal Dentistry is committed to delivering advanced implant and cosmetic dentistry to the heart of Crestwood.&quot\;</em></span></span>
LOCATION:Ideal Dentistry 5805 W State Hwy 22 Crestwood\, KY 40014
UID:e.1944.6362
SEQUENCE:3
DTSTAMP:20260424T152931Z
URL:https://members.oldhamcountychamber.com/events/details/ribbon-cutting-ideal-dentistry-6362
END:VEVENT

END:VCALENDAR
