BEGIN:VCALENDAR
VERSION:2.0
PRODID:-//ChamberMaster//Event Calendar 2.0//EN
METHOD:PUBLISH
X-PUBLISHED-TTL:P3D
REFRESH-INTERVAL:P3D
CALSCALE:GREGORIAN
BEGIN:VEVENT
DTSTART:20240815T150000Z
DTEND:20240815T160000Z
X-MICROSOFT-CDO-ALLDAYEVENT:FALSE
SUMMARY:Ribbon Cutting for JCTC- Adult Education Program
DESCRIPTION:Please\, join us for a Ribbon Cutting to celebrate JCTC - Adult Education Program!\n\n\n\n"JCTC - Adult Education Program offers free educational services for all students 18 years and older. We offer GED\, ELA (English Language Acquisition)\, college transition\, work readiness\, and digital literacy classes."
X-ALT-DESC;FMTTYPE=text/html:Please\, join us for a Ribbon Cutting to celebrate JCTC - Adult Education Program!<br />\n<br />\n&quot\;JCTC - Adult Education Program offers free educational services for all students 18 years and older. We offer GED\, ELA (English Language Acquisition)\, college transition\, work readiness\, and digital literacy classes.&quot\;
LOCATION:La Grange Community Center 307 W. Jefferson St. La Grange\, KY 40031 (2nd) Floor
UID:e.1944.5351
SEQUENCE:3
DTSTAMP:20260421T100028Z
URL:https://members.oldhamcountychamber.com/events/details/ribbon-cutting-for-jctc-adult-education-program-5351
END:VEVENT

END:VCALENDAR
