BEGIN:VCALENDAR
VERSION:2.0
PRODID:-//ChamberMaster//Event Calendar 2.0//EN
METHOD:PUBLISH
X-PUBLISHED-TTL:P3D
REFRESH-INTERVAL:P3D
CALSCALE:GREGORIAN
BEGIN:VEVENT
DTSTART:20260521T152000Z
DTEND:20260521T162000Z
X-MICROSOFT-CDO-ALLDAYEVENT:FALSE
SUMMARY:Ribbon Cutting - Bag of Bones
DESCRIPTION:Please\, join us for a Ribbon Cutting to celebrate Bag of Bones!\n\n\n\n"Kim Hunter\, owner of Bag of Bones\, provides nutrition consulting and educates pet parents on holistic\, healthy remedies for their pets. I am passionate about helping you find solutions for a long\, healthy life with your fur family members. Come see us!"
X-ALT-DESC;FMTTYPE=text/html:<span style="font-family:arial\;"><span style="font-size:14px\;">Please\, join us for a Ribbon Cutting to celebrate Bag of Bones!<br />\n<br />\n<em>&quot\;Kim Hunter\, owner of Bag of Bones\, provides nutrition consulting and educates pet parents on holistic\, healthy remedies for their pets. I am passionate about helping you find solutions for a long\, healthy life with your fur family members. Come see us!&quot\;</em></span></span>
LOCATION:Bag of Bones 4729 Hwy 146\, Unit 10\, Buckner\, KY 40010
UID:e.1944.6363
SEQUENCE:3
DTSTAMP:20260424T153217Z
URL:https://members.oldhamcountychamber.com/events/details/ribbon-cutting-bag-of-bones-6363
END:VEVENT

END:VCALENDAR
