BEGIN:VCALENDAR
VERSION:2.0
PRODID:-//ChamberMaster//Event Calendar 2.0//EN
METHOD:PUBLISH
X-PUBLISHED-TTL:P3D
REFRESH-INTERVAL:P3D
CALSCALE:GREGORIAN
BEGIN:VEVENT
DTSTART:20230224T160000Z
DTEND:20230224T170000Z
X-MICROSOFT-CDO-ALLDAYEVENT:FALSE
SUMMARY:Ribbon Cutting - 502 Renew
DESCRIPTION:Please\, join us for a Ribbon Cutting to celebrate 502 Renew!\n\n\n\n502 RENEW is a medical spa offering botulinum toxin\, dermal fillers\, microdermabrasion\, microneedling & more!
X-ALT-DESC;FMTTYPE=text/html:<span style="font-family:arial\;"><span style="font-size:14px\;">Please\, join us for a Ribbon Cutting to celebrate 502 Renew!<br />\n<br />\n<em><span style="color: rgb(5\, 5\, 5)\; text-align: center\; background-color: rgb(255\, 255\, 255)\;">502 RENEW is a medical spa offering botulinum toxin\, dermal fillers\, microdermabrasion\, m</span><span style="color: rgb(5\, 5\, 5)\; text-align: center\; background-color: rgb(255\, 255\, 255)\;">icroneedling &amp\; more!</span></em></span></span>
LOCATION:6001 Claymont Village Drive Suite 1 Crestwood\, KY 40014
UID:e.1944.3165
SEQUENCE:3
DTSTAMP:20260421T102535Z
URL:https://members.oldhamcountychamber.com/events/details/ribbon-cutting-502-renew-3165
END:VEVENT

END:VCALENDAR
