BEGIN:VCALENDAR
VERSION:2.0
PRODID:-//ChamberMaster//Event Calendar 2.0//EN
METHOD:PUBLISH
X-PUBLISHED-TTL:P3D
REFRESH-INTERVAL:P3D
CALSCALE:GREGORIAN
BEGIN:VEVENT
DTSTART:20260508T160000Z
DTEND:20260508T170000Z
X-MICROSOFT-CDO-ALLDAYEVENT:FALSE
SUMMARY:"Out to Lunch" with the Chamber - Devilish Wings Bar & Grill
DESCRIPTION:Save the date for "Out to Lunch" with the Chamber! Step away from the office\, enjoy a great meal\, and spend your lunch hour with fellow Chamber members in a relaxed\, welcoming setting.\n\nThis time\, we'll be gathering at the Devilish Wings Bar & Grill.
X-ALT-DESC;FMTTYPE=text/html:<p data-end="215" data-start="0">Save the date for &quot\;Out to Lunch&quot\; with the Chamber! Step away from the office\, enjoy a great meal\, and spend your lunch hour with fellow Chamber members in a relaxed\, welcoming setting.</p>\n\n<p data-end="420" data-is-last-node="" data-is-only-node="" data-start="217"><strong data-end="303" data-start="217">This time\, we&rsquo\;ll be gathering at the Devilish Wings Bar &amp\; Grill.</strong>&nbsp\;</p>\n
LOCATION:Devilish Wings Bar & Grill 209 East Main St. La Grange\, KY 40031
UID:e.1944.6160
SEQUENCE:3
DTSTAMP:20260420T202658Z
URL:https://members.oldhamcountychamber.com/events/details/out-to-lunch-with-the-chamber-devilish-wings-bar-grill-6160
END:VEVENT

END:VCALENDAR
