BEGIN:VCALENDAR
VERSION:2.0
PRODID:-//ChamberMaster//Event Calendar 2.0//EN
METHOD:PUBLISH
X-PUBLISHED-TTL:P3D
REFRESH-INTERVAL:P3D
CALSCALE:GREGORIAN
BEGIN:VEVENT
DTSTART:20230222T140000Z
DTEND:20230222T150000Z
X-MICROSOFT-CDO-ALLDAYEVENT:FALSE
SUMMARY:Morning Meetup - Stock Yards Bank & Trust
DESCRIPTION:Start your day off right by joining us at Morning Meetup\, where you can enjoy a cup of coffee and connect with other Chamber Members. It's the perfect opportunity to network and build relationships with like-minded business professionals in our community. Don't miss out\, register now!
X-ALT-DESC;FMTTYPE=text/html:<p><span style="font-size:14px\;">Start your day off right by joining us at Morning Meetup\, where you can enjoy a cup of coffee and connect with other Chamber Members. It&#39\;s the perfect opportunity to network and build relationships with like-minded business professionals in our community. Don&#39\;t miss out\, register now!</span></p>\n
LOCATION:Stock Yards Bank & Trust 515 South 1st Street La Grange\, KY 40031
UID:e.1944.3147
SEQUENCE:3
DTSTAMP:20260421T090705Z
URL:https://members.oldhamcountychamber.com/events/details/morning-meetup-stock-yards-bank-trust-3147
END:VEVENT

END:VCALENDAR
