BEGIN:VCALENDAR
VERSION:2.0
PRODID:-//ChamberMaster//Event Calendar 2.0//EN
METHOD:PUBLISH
X-PUBLISHED-TTL:P3D
REFRESH-INTERVAL:P3D
CALSCALE:GREGORIAN
BEGIN:VEVENT
DTSTART:20230110T140000Z
DTEND:20230110T150000Z
X-MICROSOFT-CDO-ALLDAYEVENT:FALSE
SUMMARY:Maximize Your Membership
DESCRIPTION:Please join us for Maximize Your Membership (Member Orientation) to learn\, or refresh your Chamber benefits\, hear about our events and programming\, and network with other members!
X-ALT-DESC;FMTTYPE=text/html:<span style="font-size:14px\;"><span style="color: rgb(63\, 63\, 63)\; font-family: Arial\, Helvetica\, sans-serif\; background-color: rgb(255\, 255\, 255)\;">Please join us for <strong><em>Maximize Your Membership</em></strong> (Member Orientation) to learn\, or refresh your Chamber benefits\, hear about our events and programming\, and network with other members!</span></span>
LOCATION:OCED Office 204 South 1st Ave. La Grange\, KY 40031
UID:e.1944.3142
SEQUENCE:3
DTSTAMP:20260421T075830Z
URL:https://members.oldhamcountychamber.com/events/details/maximize-your-membership-3142
END:VEVENT

END:VCALENDAR
