BEGIN:VCALENDAR
VERSION:2.0
PRODID:-//ChamberMaster//Event Calendar 2.0//EN
METHOD:PUBLISH
X-PUBLISHED-TTL:P3D
REFRESH-INTERVAL:P3D
CALSCALE:GREGORIAN
BEGIN:VEVENT
DTSTART:20230221T200000Z
DTEND:20230221T220000Z
X-MICROSOFT-CDO-ALLDAYEVENT:FALSE
SUMMARY:Margaritas & Mugshots
DESCRIPTION:Join us at The Grand for an afternoon of networking\, cocktails\, and complimentary headshots!\n\nProfessional headshots provided by Homepage Realty\, Homepage STARS. \n\nAll attendees will be entered into a door prize drawing!\n\nPlease RSVP to attend.
X-ALT-DESC;FMTTYPE=text/html:Join us at The Grand for an afternoon of networking\, cocktails\, and complimentary headshots!<br />\nProfessional headshots provided by Homepage Realty\, Homepage STARS.&nbsp\;<br />\nAll attendees will be entered into a door prize drawing!<br />\nPlease RSVP to attend.&nbsp\;
LOCATION:The Grand Senior Living 9300 Civic Way Prospect KY 40059
UID:e.1944.3171
SEQUENCE:3
DTSTAMP:20260421T101856Z
URL:https://members.oldhamcountychamber.com/events/details/margaritas-mugshots-3171
END:VEVENT

END:VCALENDAR
