BEGIN:VCALENDAR
VERSION:2.0
PRODID:-//ChamberMaster//Event Calendar 2.0//EN
METHOD:PUBLISH
X-PUBLISHED-TTL:P3D
REFRESH-INTERVAL:P3D
CALSCALE:GREGORIAN
BEGIN:VEVENT
DTSTART:20230504T130000Z
DTEND:20230504T143000Z
X-MICROSOFT-CDO-ALLDAYEVENT:FALSE
SUMMARY:Derby Week Coffee at Chestnut Hall
DESCRIPTION:Expert handicapper\,  Peter Fornatale\, will lead a lively discussion about Oak & Derby picks over coffee and donuts. Guests will enjoy a beautiful morning at Chestnut Hall Thoroughbred Sanctuary Farm.
X-ALT-DESC;FMTTYPE=text/html:<span style="color:rgb(0\, 0\, 0)">Expert handicapper\,&nbsp\; Peter Fornatale\, will lead a lively discussion about Oak &amp\; Derby picks over coffee and donuts. Guests will enjoy a beautiful morning at Chestnut Hall Thoroughbred Sanctuary Farm.&nbsp\;</span>
LOCATION:Chestnut Hall 12611 W. Hwy 42 Prospect\, KY 40059
UID:e.1944.3222
SEQUENCE:3
DTSTAMP:20260422T160158Z
URL:https://members.oldhamcountychamber.com/events/details/derby-week-coffee-at-chestnut-hall-3222
END:VEVENT

END:VCALENDAR
